BEGIN:VCALENDAR
VERSION:2.0
PRODID:LFV Website-Kit
METHOD:PUBLISH
BEGIN:VEVENT
UID:lfv-6952eebb-0a65-4429-b40c-a25c641c86e8
LOCATION:Am Schulhaus 1 Rollhofen
SUMMARY:Übung
DESCRIPTION:Übung\n\nTermin Link: https://www.rollhofen.de/termine/ubung-11/
URL:https://www.rollhofen.de/termine/ubung-11/
CLASS:PRIVATE
DTSTART;TZID=Europe/Berlin:20250530T183000
DTEND;TZID=Europe/Berlin:20250530T193000
DTSTAMP:20260421T082850Z
END:VEVENT
END:VCALENDAR